<VRTDataset rasterXSize="1296000" rasterYSize="604800">
  <SRS>GEOGCS["WGS 84",DATUM["WGS_1984",SPHEROID["WGS 84",6378137,298.257223563,AUTHORITY["EPSG","7030"]],AUTHORITY["EPSG","6326"]],PRIMEM["Greenwich",0,AUTHORITY["EPSG","8901"]],UNIT["degree",0.0174532925199433,AUTHORITY["EPSG","9122"]],AUTHORITY["EPSG","4326"]]</SRS>
  <GeoTransform> -1.8000000000000034e+02,  2.7777777777781730e-04,  0.0000000000000000e+00,  8.4000000000000000e+01,  0.0000000000000000e+00, -2.7777777777781730e-04</GeoTransform>
  <VRTRasterBand dataType="Int16" band="1">
    <ColorInterp>Gray</ColorInterp>
    <!-- Custom areas -->
  </VRTRasterBand>
</VRTDataset>
